BEGIN:VCALENDAR
VERSION:2.0
PRODID:-//Green Ridge HOA - ECPv6.15.17.1//NONSGML v1.0//EN
CALSCALE:GREGORIAN
METHOD:PUBLISH
X-ORIGINAL-URL:https://greenridgehoa.net
X-WR-CALDESC:Events for Green Ridge HOA
REFRESH-INTERVAL;VALUE=DURATION:PT1H
X-Robots-Tag:noindex
X-PUBLISHED-TTL:PT1H
BEGIN:VTIMEZONE
TZID:America/Phoenix
BEGIN:STANDARD
TZOFFSETFROM:-0700
TZOFFSETTO:-0700
TZNAME:MST
DTSTART:20240101T000000
END:STANDARD
END:VTIMEZONE
BEGIN:VEVENT
DTSTART;TZID=America/Phoenix:20251124T130000
DTEND;TZID=America/Phoenix:20251124T140000
DTSTAMP:20260422T014004
CREATED:20251118T164342Z
LAST-MODIFIED:20251124T200912Z
UID:10000025-1763989200-1763992800@greenridgehoa.net
SUMMARY:Special Meeting of the Board
DESCRIPTION:Dear Friends and Neighbors\, \nThe Green Ridge HOA Board will be having a Special Meeting of the Board on November 24th\, 2025 at 1:00PM. \nMeeting link: Special Meeting of the Green Ridge HOA Board | Microsoft Teams | Meetup-Join \nhttps://teams.live.com/meet/9326571835305?p=pZH3JJUoiuZd3n0MGJ \nAGENDA \nKindest Regards\, \nVicky \nVicky DiNicola \nEmail:  vickydinicola@gmail.com \nCell:      520.990.0876
URL:https://greenridgehoa.net/event/special-meeting-of-the-board-3/
CATEGORIES:Board Meeting
END:VEVENT
END:VCALENDAR